BEGIN:VCALENDAR
VERSION:2.0
PRODID:-//Plone.org//NONSGML plone.app.event//EN
X-WR-TIMEZONE:US/Central
BEGIN:VEVENT
SUMMARY:Martin Luther King Jr. Day: Library Closed
DTSTART;VALUE=DATE:20320119
DTEND;VALUE=DATE:20320120
DTSTAMP:20260423T115657Z
UID:7b28b11866754286922bee4ac80fede0@saas_stack_varnish:6080
CREATED:20220418T161106Z
DESCRIPTION:The library will be closed in observance of Martin Luther King
  Jr. Day.
LAST-MODIFIED:20250402T200013Z
URL:https://www.marioncounty1.lib.mo.us/calendar-news/events/martin-luther
 -king-jr-day-library-closed/2032-01-19
END:VEVENT
END:VCALENDAR
