BEGIN:VCALENDAR
VERSION:2.0
PRODID:-//Plone.org//NONSGML plone.app.event//EN
X-WR-TIMEZONE:US/Central
BEGIN:VEVENT
SUMMARY:End of Summer Reading Celebration
DTSTART;TZID=US/Central:20220730T110000
DTEND;TZID=US/Central:20220730T120000
DTSTAMP:20260419T125047Z
UID:ff7126a4ab3c48499bc28aaa50cc6197@saas_stack_varnish:6080
ATTENDEE;CN="Open to all ages!";ROLE=REQ-PARTICIPANT:Open to all ages!
CONTACT:Devon Payne-Youth Librarian\, 15737692830\, director@marioncolib.o
 rg
CREATED:20220614T222045Z
DESCRIPTION:Join Marion County Library at the Flower City Park for a Celeb
 ration of all the fun\, and reading we have had during Summer Reading Prog
 ram! Open to all ages!
LAST-MODIFIED:20220614T222105Z
URL:https://www.marioncounty1.lib.mo.us/calendar-news/events/end-of-summer
 -reading-celebration
END:VEVENT
BEGIN:VTIMEZONE
TZID:US/Central
X-LIC-LOCATION:US/Central
BEGIN:DAYLIGHT
DTSTART:20220313T030000
TZNAME:CDT
TZOFFSETFROM:-0600
TZOFFSETTO:-0500
END:DAYLIGHT
END:VTIMEZONE
END:VCALENDAR
