BEGIN:VCALENDAR
VERSION:2.0
PRODID:-//Plone.org//NONSGML plone.app.event//EN
X-WR-TIMEZONE:US/Central
BEGIN:VEVENT
SUMMARY:Christmas: Library Closed
DTSTART;VALUE=DATE:20261224
DTEND;VALUE=DATE:20261227
DTSTAMP:20260423T130829Z
UID:4790ad77ea2f41bf8894c377c7a630b1@saas_stack_varnish:6080
RRULE:FREQ=YEARLY;COUNT=7;BYMONTHDAY=24;BYMONTH=12
CREATED:20251229T175105Z
LAST-MODIFIED:20251229T175414Z
URL:https://www.marioncounty1.lib.mo.us/calendar-news/events/christmas-lib
 rary-closed
END:VEVENT
END:VCALENDAR
