BEGIN:VCALENDAR
VERSION:2.0
PRODID:-//Plone.org//NONSGML plone.app.event//EN
X-WR-TIMEZONE:US/Central
BEGIN:VEVENT
SUMMARY:Book Talk (Thanksgiving Holiday)
DTSTART;TZID=US/Central:20291120T133000
DTEND;TZID=US/Central:20291120T143000
DTSTAMP:20260423T143624Z
UID:5fd1fce0496a4e4e8ada8798c57fbed3@saas_stack_varnish:6080
CONTACT:Lilla Jacobs\, 573-769-2830\, ljacobs.mcl@gmail.com
CREATED:20251229T174705Z
DESCRIPTION:Our regular Book Talk group will meet on the third Tuesday of 
 the month instead of the fourth for the holiday season.
LAST-MODIFIED:20251229T175506Z
LOCATION:Blue Room\, Marion County Library
URL:https://www.marioncounty1.lib.mo.us/calendar-news/events/book-talk-tha
 nksgiving-holiday/2029-11-20
END:VEVENT
BEGIN:VTIMEZONE
TZID:US/Central
X-LIC-LOCATION:US/Central
BEGIN:STANDARD
DTSTART:20291104T010000
TZNAME:CST
TZOFFSETFROM:-0500
TZOFFSETTO:-0600
END:STANDARD
END:VTIMEZONE
END:VCALENDAR
